BEGIN:VCALENDAR
VERSION:2.0
PRODID:-//Sierra Hills Road Maintenance Association - ECPv6.15.20//NONSGML v1.0//EN
CALSCALE:GREGORIAN
METHOD:PUBLISH
X-WR-CALNAME:Sierra Hills Road Maintenance Association
X-ORIGINAL-URL:https://sierrahillsrma.org
X-WR-CALDESC:Events for Sierra Hills Road Maintenance Association
REFRESH-INTERVAL;VALUE=DURATION:PT1H
X-Robots-Tag:noindex
X-PUBLISHED-TTL:PT1H
BEGIN:VTIMEZONE
TZID:America/Los_Angeles
BEGIN:DAYLIGHT
TZOFFSETFROM:-0800
TZOFFSETTO:-0700
TZNAME:PDT
DTSTART:20220313T100000
END:DAYLIGHT
BEGIN:STANDARD
TZOFFSETFROM:-0700
TZOFFSETTO:-0800
TZNAME:PST
DTSTART:20221106T090000
END:STANDARD
BEGIN:DAYLIGHT
TZOFFSETFROM:-0800
TZOFFSETTO:-0700
TZNAME:PDT
DTSTART:20230312T100000
END:DAYLIGHT
BEGIN:STANDARD
TZOFFSETFROM:-0700
TZOFFSETTO:-0800
TZNAME:PST
DTSTART:20231105T090000
END:STANDARD
BEGIN:DAYLIGHT
TZOFFSETFROM:-0800
TZOFFSETTO:-0700
TZNAME:PDT
DTSTART:20240310T100000
END:DAYLIGHT
BEGIN:STANDARD
TZOFFSETFROM:-0700
TZOFFSETTO:-0800
TZNAME:PST
DTSTART:20241103T090000
END:STANDARD
BEGIN:DAYLIGHT
TZOFFSETFROM:-0800
TZOFFSETTO:-0700
TZNAME:PDT
DTSTART:20250309T100000
END:DAYLIGHT
BEGIN:STANDARD
TZOFFSETFROM:-0700
TZOFFSETTO:-0800
TZNAME:PST
DTSTART:20251102T090000
END:STANDARD
BEGIN:DAYLIGHT
TZOFFSETFROM:-0800
TZOFFSETTO:-0700
TZNAME:PDT
DTSTART:20260308T100000
END:DAYLIGHT
BEGIN:STANDARD
TZOFFSETFROM:-0700
TZOFFSETTO:-0800
TZNAME:PST
DTSTART:20261101T090000
END:STANDARD
END:VTIMEZONE
BEGIN:VEVENT
DTSTART;TZID=America/Los_Angeles:20251016T190000
DTEND;TZID=America/Los_Angeles:20251016T203000
DTSTAMP:20260423T084131
CREATED:20251011T034158Z
LAST-MODIFIED:20251011T035116Z
UID:1019-1760641200-1760646600@sierrahillsrma.org
SUMMARY:October General Membership Meeting
DESCRIPTION:If you can not attend\, please find a proxy! \nMembers must be in good standing to assign a proxy vote. i.e. Due paid at meeting time. \nDownload\, Print\, assign and sign: Fall-2025-Proxy \nSee you there!
URL:https://sierrahillsrma.org/event/october-general-membership-meeting-2/
LOCATION:Ranchero Way\, 13325 Ranchero Way\, Grass Valley\, CA\, 95949\, United States
END:VEVENT
BEGIN:VEVENT
DTSTART;TZID=America/Los_Angeles:20241024T190000
DTEND;TZID=America/Los_Angeles:20241024T203000
DTSTAMP:20260423T084131
CREATED:20241011T023439Z
LAST-MODIFIED:20241024T222833Z
UID:592-1729796400-1729801800@sierrahillsrma.org
SUMMARY:October General Membership Meeting
DESCRIPTION:
URL:https://sierrahillsrma.org/event/october-general-membership-meeting/
LOCATION:Higgins Lions Community Center\, 22490 E Hacienda Dr\, Grass Valley\, CA\, 95949\, United States
ATTACH;FMTTYPE=image/jpeg:https://sierrahillsrma.org/wp-content/uploads/2024/10/0EA0BACF-047C-4D0F-B2DE-B7229C037C88_1_105_c.jpeg
END:VEVENT
BEGIN:VEVENT
DTSTART;TZID=America/Los_Angeles:20240523T190000
DTEND;TZID=America/Los_Angeles:20240523T203000
DTSTAMP:20260423T084131
CREATED:20240511T214547Z
LAST-MODIFIED:20240511T215047Z
UID:541-1716490800-1716496200@sierrahillsrma.org
SUMMARY:May 2024 General Member Meeting
DESCRIPTION:Membership meeting will be at the Higgins Loins Community Center: 22490 E Hacienda Dr\, Grass Valley\, CA 95949. \nIf you intend to pay your invoice to vote at the meeting\, please make your checks payable to SHRMA.  Contact me if you have questions about your invoice balance prior to the meeting.  See you there!
URL:https://sierrahillsrma.org/event/may-2024-general-member-meeting/
LOCATION:Higgins Lions Community Center\, 22490 E Hacienda Dr\, Grass Valley\, CA\, 95949\, United States
END:VEVENT
BEGIN:VEVENT
DTSTART;TZID=America/Los_Angeles:20240228T080000
DTEND;TZID=America/Los_Angeles:20240228T120000
DTSTAMP:20260423T084131
CREATED:20240226T165901Z
LAST-MODIFIED:20240226T165901Z
UID:323-1709107200-1709121600@sierrahillsrma.org
SUMMARY:Grass Valley Weed and Pest Control Spraying
DESCRIPTION:The Grass Valley Weed and Pest control will be straying the edges of the road to ensure fire safety\, drainage and visibility. This is the first of 2 maintenance sprays that happen every year. This year is slightly earlier based on mild winter temps and earlier growth as a result. \nSubmit a comment if you have questions.
URL:https://sierrahillsrma.org/event/grass-valley-weed-and-pest-control-spraying/
LOCATION:CA
END:VEVENT
BEGIN:VEVENT
DTSTART;TZID=America/Los_Angeles:20240225T143000
DTEND;TZID=America/Los_Angeles:20240225T163000
DTSTAMP:20260423T084131
CREATED:20240209T041510Z
LAST-MODIFIED:20240209T165429Z
UID:314-1708871400-1708878600@sierrahillsrma.org
SUMMARY:Winter Social
DESCRIPTION:This is a neighborhood gathering to get to know your neighbors.  There is a cost to host this first event at the Loins Club\, so we’re collecting $5/person $10/family.
URL:https://sierrahillsrma.org/event/winter-social/
LOCATION:Higgins Lions Community Center\, 22490 E Hacienda Dr\, Grass Valley\, CA\, 95949\, United States
END:VEVENT
BEGIN:VEVENT
DTSTART;TZID=America/Los_Angeles:20231026T120000
DTEND;TZID=America/Los_Angeles:20231026T133000
DTSTAMP:20260423T084131
CREATED:20231013T040938Z
LAST-MODIFIED:20231013T041415Z
UID:148-1698321600-1698327000@sierrahillsrma.org
SUMMARY:Fall 2023 Member Meeting
DESCRIPTION:Higgins Lions Community Center
URL:https://sierrahillsrma.org/event/fall-2023-member-meeting/
LOCATION:Higgins Lions Community Center\, 22490 E Hacienda Dr\, Grass Valley\, CA\, 95949\, United States
END:VEVENT
END:VCALENDAR